Workbook
Name NotRanked: Sheet2!$C$1:$C$19
Name Officers: Sheet2!#REF!

Sheet OFFRNKLST
A1: Non-Specialty Specific Billet Preference List 2020
A2: INSTRUCTIONS: 1. In Cell A4, type your name and primary specialty. 2. In Cell A5, use the drop down to select your EFMP status. 3. In Cell A6, use the drop down to select your Co-location status. 4. In Cell A7, indicate if you have any pending applications. 5. In Cell A8, type any matters, professional or personnel, you would like considered during the assignment process. 6. In the remaining Cells (A9 thru A27), please rank your billet preferences in order of HIGHEST to LOWEST. Note: there are 18 choices available so be certain to use the scroll bar to see all the choices.
A4: Type your name and primary specialty here
A5: Do you have an EFMP dependent? Use the drop down
A6: Are you married to a military spouse and desire Co-location? Use the drop down
A7: Do you have a Milestone/Command/GME application pending? Use the drop down
A8: Free text any professional/personal matters in this block

Sheet Sheet2
A1: CATF SURGEON/FLEET SURGICAL TEAM OIC - NORFOLK, VA | B1: =IF(COUNTIF(OFFRNKLST!$A$9:$A$26,A1)>=1,"",ROW()) -> 1 | C1: =IF(ROW(A1)-ROW(A$1)+1>COUNT(B$1:B$19),"",INDEX(A:A,SMALL(B$1:B$19,1+ROW(A1)-ROW(A$1)))) -> CATF SURGEON/FLEET SURGICAL TEAM OIC - NORFOLK, VA
A2: CATF SURGEON/FLEET SURGICAL TEAM OIC - SAN DIEGO, CA | B2: =IF(COUNTIF(OFFRNKLST!$A$9:$A$26,A2)>=1,"",ROW()) -> 2 | C2: =IF(ROW(A2)-ROW(A$1)+1>COUNT(B$1:B$19),"",INDEX(A:A,SMALL(B$1:B$19,1+ROW(A2)-ROW(A$1)))) -> CATF SURGEON/FLEET SURGICAL TEAM OIC - SAN DIEGO, CA
A3: CATF SURGEON/FLEET SURGICAL TEAM OIC - OKINAWA, JA | B3: =IF(COUNTIF(OFFRNKLST!$A$9:$A$26,A3)>=1,"",ROW()) -> 3 | C3: =IF(ROW(A3)-ROW(A$1)+1>COUNT(B$1:B$19),"",INDEX(A:A,SMALL(B$1:B$19,1+ROW(A3)-ROW(A$1)))) -> CATF SURGEON/FLEET SURGICAL TEAM OIC - OKINAWA, JA
A4: 1ST MLG GROUP SURGEON | B4: =IF(COUNTIF(OFFRNKLST!$A$9:$A$26,A4)>=1,"",ROW()) -> 4 | C4: =IF(ROW(A4)-ROW(A$1)+1>COUNT(B$1:B$19),"",INDEX(A:A,SMALL(B$1:B$19,1+ROW(A4)-ROW(A$1)))) -> 1ST MLG GROUP SURGEON
A5: 2D MLG GROUP SURGEON | B5: =IF(COUNTIF(OFFRNKLST!$A$9:$A$26,A5)>=1,"",ROW()) -> 5 | C5: =IF(ROW(A5)-ROW(A$1)+1>COUNT(B$1:B$19),"",INDEX(A:A,SMALL(B$1:B$19,1+ROW(A5)-ROW(A$1)))) -> 2D MLG GROUP SURGEON
A6: 2D MARDIV DIVISION SURGEON | B6: =IF(COUNTIF(OFFRNKLST!$A$9:$A$26,A6)>=1,"",ROW()) -> 6 | C6: =IF(ROW(A6)-ROW(A$1)+1>COUNT(B$1:B$19),"",INDEX(A:A,SMALL(B$1:B$19,1+ROW(A6)-ROW(A$1)))) -> 2D MARDIV DIVISION SURGEON
A7: 3RD MARDIV DIVISION SURGEON | B7: =IF(COUNTIF(OFFRNKLST!$A$9:$A$26,A7)>=1,"",ROW()) -> 7 | C7: =IF(ROW(A7)-ROW(A$1)+1>COUNT(B$1:B$19),"",INDEX(A:A,SMALL(B$1:B$19,1+ROW(A7)-ROW(A$1)))) -> 3RD MARDIV DIVISION SURGEON
A8: COMMAND ELEMENT 5TH MEB | B8: =IF(COUNTIF(OFFRNKLST!$A$9:$A$26,A8)>=1,"",ROW()) -> 8 | C8: =IF(ROW(A8)-ROW(A$1)+1>COUNT(B$1:B$19),"",INDEX(A:A,SMALL(B$1:B$19,1+ROW(A8)-ROW(A$1)))) -> COMMAND ELEMENT 5TH MEB
A9: COMNAVSURFPAC CSD | B9: =IF(COUNTIF(OFFRNKLST!$A$9:$A$26,A9)>=1,"",ROW()) -> 9 | C9: =IF(ROW(A9)-ROW(A$1)+1>COUNT(B$1:B$19),"",INDEX(A:A,SMALL(B$1:B$19,1+ROW(A9)-ROW(A$1)))) -> COMNAVSURFPAC CSD
A10: USS WASP (LHD-1) | B10: =IF(COUNTIF(OFFRNKLST!$A$9:$A$26,A10)>=1,"",ROW()) -> 10 | C10: =IF(ROW(A10)-ROW(A$1)+1>COUNT(B$1:B$19),"",INDEX(A:A,SMALL(B$1:B$19,1+ROW(A10)-ROW(A$1)))) -> USS WASP (LHD-1)
A11: USS MAKIN ISLAND (LHD-8) | B11: =IF(COUNTIF(OFFRNKLST!$A$9:$A$26,A11)>=1,"",ROW()) -> 11 | C11: =IF(ROW(A11)-ROW(A$1)+1>COUNT(B$1:B$19),"",INDEX(A:A,SMALL(B$1:B$19,1+ROW(A11)-ROW(A$1)))) -> USS MAKIN ISLAND (LHD-8)
A12: SECNAV CORB (PHYSICAL EVALUATION BOARD MEMBER) | B12: =IF(COUNTIF(OFFRNKLST!$A$9:$A$26,A12)>=1,"",ROW()) -> 12 | C12: =IF(ROW(A12)-ROW(A$1)+1>COUNT(B$1:B$19),"",INDEX(A:A,SMALL(B$1:B$19,1+ROW(A12)-ROW(A$1)))) -> SECNAV CORB (PHYSICAL EVALUATION BOARD MEMBER)
... A18: NAVY MEDICAL RESEARCH CENTER (ID/Immunology) | B18: =IF(COUNTIF(OFFRNKLST!$A$9:$A$26,A18)>=1,"",ROW()) -> 18 | C18: =IF(ROW(A18)-ROW(A$1)+1>COUNT(B$1:B$19),"",INDEX(A:A,SMALL(B$1:B$19,1+ROW(A18)-ROW(A$1)))) -> NAVY MEDICAL RESEARCH CENTER (ID/Immunology)
