Workbook

Sheet CAPT FY08-FY18
A1: RANK | B1: STATUS | C1: Officers | D1: Residency trained aerospace medicine | E1: Anesthesia | F1: Gen surgery | G1: Neurosurgery | H1: OB-GYN | I1: Ophthalmology | J1: Orthopedics | K1: ENT | L1: Urology | M1: Preventive medicine | N1: Occupational medicine | O1: Physical medicine and rehabilitation | P1: Pathology | Q1: Dermatology | R1: Emergency medicine | S1: Family medicine | T1: Internal medicine general | U1: Internal medicine sub specialty | V1: Neurology | W1: Pediatrics | X1: Psychiatry | Y1: Radiology | Z1: Radiation oncology
A2: CDR | B2: FY08 | C2: ='FY08'!C4 -> 0.34536082 | D2: ='FY08'!D4 -> 0.15384615 | E2: ='FY08'!E4 -> 0.44444444 | F2: ='FY08'!F4 -> 0.42105263 | H2: ='FY08'!H4 -> 0.11111111 | I2: ='FY08'!I4 -> 0.33333333 | J2: ='FY08'!J4 -> 0.625 | K2: ='FY08'!K4 -> 0 | L2: ='FY08'!L4 -> 0 | M2: ='FY08'!M4 -> 0.14285714 | N2: ='FY08'!N4 -> 0.33333333 | O2: ='FY08'!O4 -> 1 | ... Z2: ='FY08'!Z4 -> 0
A3: CDR | B3: FY09 | C3: ='FY09'!C4 -> 0.30769231 | D3: ='FY09'!D4 -> 0.21428571 | E3: ='FY09'!E4 -> 0.28571429 | F3: ='FY09'!F4 -> 0.2 | H3: ='FY09'!H4 -> 0.25 | I3: ='FY09'!I4 -> 0.42857143 | J3: ='FY09'!J4 -> 0.28571429 | K3: ='FY09'!K4 -> 0.57142857 | L3: ='FY09'!L4 -> 0 | M3: ='FY09'!M4 -> 0.5 | N3: ='FY09'!N4 -> 0.2 | P3: ='FY09'!P4 -> 0.1 | Q3: ='FY09'!Q4 -> 0 | R3: ='FY09'!R4 -> 0.3125 | S3: ='FY09'!S4 -> 0.2972973 | T3: ='FY09'!T4 -> 0.3125 | U3: ='FY09'!U4 -> 0.4 | V3: ='FY09'!V4 -> 0.5 | W3: ='FY09'!W4 -> 0.28571429 | ... Z3: ='FY09'!Z4 -> 0.5
A4: CDR | B4: FY10 | C4: ='FY10'!C4 -> 0.33684211 | D4: ='FY10'!D4 -> 0.13333333 | E4: ='FY10'!E4 -> 0.16666667 | F4: ='FY10'!F4 -> 0.15789474 | H4: ='FY10'!H4 -> 0.36363636 | I4: ='FY10'!I4 -> 0.66666667 | J4: ='FY10'!J4 -> 0.42857143 | K4: ='FY10'!K4 -> 0.2 | L4: ='FY10'!L4 -> 0 | M4: ='FY10'!M4 -> 0 | N4: ='FY10'!N4 -> 0.375 | P4: ='FY10'!P4 -> 0.18181818 | Q4: ='FY10'!Q4 -> 0.5 | R4: ='FY10'!R4 -> 0.23076923 | S4: ='FY10'!S4 -> 0.41176471 | T4: ='FY10'!T4 -> 0.47619048 | U4: ='FY10'!U4 -> 0.6 | V4: ='FY10'!V4 -> 0.33333333 | W4: ='FY10'!W4 -> 0.35714286 | ... Z4: ='FY10'!Z4 -> 0
A5: CDR | B5: FY11 | C5: ='FY11'!C4 -> 0.39690722 | D5: ='FY11'!D4 -> 0.2 | E5: ='FY11'!E4 -> 0.5 | F5: ='FY11'!F4 -> 0.41176471 | G5: ='FY11'!G4 -> 1 | H5: ='FY11'!H4 -> 0.30769231 | I5: ='FY11'!I4 -> 1 | J5: ='FY11'!J4 -> 0.44444444 | ... N5: ='FY11'!N4 -> 0.14285714 | P5: ='FY11'!P4 -> 0.25 | Q5: ='FY11'!Q4 -> 0.5 | R5: ='FY11'!R4 -> 0.5 | S5: ='FY11'!S4 -> 0.25 | T5: ='FY11'!T4 -> 0.52173913 | U5: ='FY11'!U4 -> 0.64285714 | V5: ='FY11'!V4 -> 0.5 | W5: ='FY11'!W4 -> 0.30769231 | ... Z5: ='FY11'!Z4 -> 0
A6: CDR | B6: FY12 | C6: ='FY12'!C4 -> 0.41284404 | D6: ='FY12'!D4 -> 0.31818182 | E6: ='FY12'!E4 -> 0.4 | F6: ='FY12'!F4 -> 0.36842105 | G6: ='FY12'!G4 -> 0 | H6: ='FY12'!H4 -> 0.25 | I6: ='FY12'!I4 -> 0.5 | J6: ='FY12'!J4 -> 0.45454545 | ... N6: ='FY12'!N4 -> 0.16666667 | P6: ='FY12'!P4 -> 0.23076923 | Q6: ='FY12'!Q4 -> 1 | R6: ='FY12'!R4 -> 0.5 | S6: ='FY12'!S4 -> 0.51666667 | T6: ='FY12'!T4 -> 0.57692308 | U6: ='FY12'!U4 -> 0.75 | V6: ='FY12'!V4 -> 0.33333333 | W6: ='FY12'!W4 -> 0.28571429 | ... Z6: ='FY12'!Z4 -> 1
A7: CDR | B7: FY13 | C7: ='FY13'!C4 -> 0.265625 | D7: ='FY13'!D4 -> 0.16666667 | E7: ='FY13'!E4 -> 0.28571429 | F7: ='FY13'!F4 -> 0.33333333 | G7: ='FY13'!G4 -> 0.25 | H7: ='FY13'!H4 -> 0.090909091 | I7: ='FY13'!I4 -> 0.5 | J7: ='FY13'!J4 -> 0.22222222 | ... N7: ='FY13'!N4 -> 0.44444444 | P7: ='FY13'!P4 -> 0 | Q7: ='FY13'!Q4 -> 0 | R7: ='FY13'!R4 -> 0.44444444 | S7: ='FY13'!S4 -> 0.21428571 | T7: ='FY13'!T4 -> 0.25 | U7: ='FY13'!U4 -> 0.28571429 | V7: ='FY13'!V4 -> 0 | W7: ='FY13'!W4 -> 0.33333333 | ... Z7: ='FY13'!Z4 -> 1
A8: CDR | B8: FY14 | C8: ='FY14'!C4 -> 0.24752475 | D8: ='FY14'!D4 -> 0.052631579 | E8: ='FY14'!E4 -> 0.33333333 | F8: ='FY14'!F4 -> 0.21428571 | G8: ='FY14'!G4 -> 0.6 | H8: ='FY14'!H4 -> 0.21052632 | I8: ='FY14'!I4 -> 0.25 | J8: ='FY14'!J4 -> 0.11111111 | ... N8: ='FY14'!N4 -> 0 | P8: ='FY14'!P4 -> 0.25 | Q8: ='FY14'!Q4 -> 0 | R8: ='FY14'!R4 -> 0.16666667 | S8: ='FY14'!S4 -> 0.19230769 | T8: ='FY14'!T4 -> 0.3 | U8: ='FY14'!U4 -> 0.42857143 | V8: ='FY14'!V4 -> 0 | W8: ='FY14'!W4 -> 0.3125 | ... Z8: ='FY14'!Z4 -> 1
A9: CDR | B9: FY15 | C9: ='FY15'!C4 -> 0.29257642 | D9: ='FY15'!D4 -> 0.18181818 | E9: ='FY15'!E4 -> 0.23076923 | F9: ='FY15'!F4 -> 0.52 | G9: ='FY15'!G4 -> 0 | H9: ='FY15'!H4 -> 0.29411765 | I9: ='FY15'!I4 -> 0.5 | J9: ='FY15'!J4 -> 0.083333333 | ... N9: ='FY15'!N4 -> 0.22222222 | P9: ='FY15'!P4 -> 0.25 | R9: ='FY15'!R4 -> 0.125 | S9: ='FY15'!S4 -> 0.1509434 | T9: ='FY15'!T4 -> 0.47826087 | U9: ='FY15'!U4 -> 0.58823529 | V9: ='FY15'!V4 -> 0 | W9: ='FY15'!W4 -> 0.31578947 | X9: ='FY15'!X4 -> 0.5 | Y9: ='FY15'!Y4 -> 0.26315789 | Z9: ='FY15'!Z4 -> 0
A10: CDR | B10: FY16 | C10: ='FY16'!C4 -> 0.20987654 | D10: ='FY16'!D4 -> 0.055555556 | E10: ='FY16'!E4 -> 0.083333333 | F10: ='FY16'!F4 -> 0.1875 | G10: ='FY16'!G4 -> 0 | H10: ='FY16'!H4 -> 0.29411765 | I10: ='FY16'!I4 -> 0 | J10: ='FY16'!J4 -> 0.16666667 | ... Z10: ='FY16'!Z4 -> 0
A11: CDR | B11: FY17 | C11: ='FY17'!C4 -> 0.24603175 | D11: ='FY17'!D4 -> 0.5 | E11: ='FY17'!E4 -> 0.30769231 | F11: ='FY17'!F4 -> 0.25 | G11: ='FY17'!G4 -> 0.66666667 | H11: ='FY17'!H4 -> 0.28571429 | I11: ='FY17'!I4 -> 0.4 | J11: ='FY17'!J4 -> 0.30769231 | ... Z11: ='FY17'!Z4 -> 0
A12: CDR | B12: FY18 | C12: ='FY18'!C4 -> 0.22026432 | D12: ='FY18'!D4 -> 0.1 | E12: ='FY18'!E4 -> 0.13333333 | F12: ='FY18'!F4 -> 0.15384615 | G12: ='FY18'!G4 -> 0 | H12: ='FY18'!H4 -> 0.28571429 | I12: ='FY18'!I4 -> 0 | J12: ='FY18'!J4 -> 0.076923077 | ... Y12: ='FY18'!Y4 -> 0.34482759
A40: RANK | B40: STATUS | C40: Officers | D40: Residency trained aerospace medicine | E40: Anesthesia | F40: Gen surgery | G40: Neurosurgery | H40: OB-GYN | I40: Ophthalmology | J40: Orthopedics | K40: ENT | L40: Urology | M40: Preventive medicine | N40: Occupational medicine | O40: Physical medicine and rehabilitation | P40: Pathology | Q40: Dermatology | R40: Emergency medicine | S40: Family medicine | T40: Internal medicine general | U40: Internal medicine sub specialty | V40: Neurology | W40: Pediatrics | X40: Psychiatry | Y40: Radiology | Z40: Radiation oncology
A41: FY08 | B41: Select | C41: ='FY08'!C2+'FY09'!C2+'FY10'!C2+'FY11'!C2+'FY12'!C2+'FY13'!C2+'FY14'!C2+'FY15'!C2+'FY16'!C2+'FY17'!C2+'FY18'!C2 -> 685 | D41: ='FY08'!D2+'FY09'!D2+'FY10'!D2+'FY11'!D2+'FY12'!D2+'FY13'!D2+'FY14'!D2+'FY15'!D2+'FY16'!D2+'FY17'!D2+'FY18'!D2 -> 36 | E41: ='FY08'!E2+'FY09'!E2+'FY10'!E2+'FY11'!E2+'FY12'!E2+'FY13'!E2+'FY14'!E2+'FY15'!E2+'FY16'!E2+'FY17'!E2+'FY18'!E2 -> 35 | F41: ='FY08'!F2+'FY09'!F2+'FY10'!F2+'FY11'!F2+'FY12'!F2+'FY13'!F2+'FY14'!F2+'FY15'!F2+'FY16'!F2+'FY17'!F2+'FY18'!F2 -> 60 | G41: ='FY08'!G2+'FY09'!G2+'FY10'!G2+'FY11'!G2+'FY12'!G2+'FY13'!G2+'FY14'!G2+'FY15'!G2+'FY16'!G2+'FY17'!G2+'FY18'!G2 -> 8 | H41: ='FY08'!H2+'FY09'!H2+'FY10'!H2+'FY11'!H2+'FY12'!H2+'FY13'!H2+'FY14'!H2+'FY15'!H2+'FY16'!H2+'FY17'!H2+'FY18'!H2 -> 38 | I41: ='FY08'!I2+'FY09'!I2+'FY10'!I2+'FY11'!I2+'FY12'!I2+'FY13'!I2+'FY14'!I2+'FY15'!I2+'FY16'!I2+'FY17'!I2+'FY18'!I2 -> 25 | J41: ='FY08'!J2+'FY09'!J2+'FY10'!J2+'FY11'!J2+'FY12'!J2+'FY13'!J2+'FY14'!J2+'FY15'!J2+'FY16'!J2+'FY17'!J2+'FY18'!J2 -> 30 | ... Z41: ='FY08'!Z2+'FY09'!Z2+'FY10'!Z2+'FY11'!Z2+'FY12'!Z2+'FY13'!Z2+'FY14'!Z2+'FY15'!Z2+'FY16'!Z2+'FY17'!Z2+'FY18'!Z2 -> 4
A42: FY08 | B42: Non-Select | C42: ='FY08'!C3+'FY09'!C3+'FY10'!C3+'FY11'!C3+'FY12'!C3+'FY13'!C3+'FY14'!C3+'FY15'!C3+'FY16'!C3+'FY17'!C3+'FY18'!C3 -> 1638 | D42: ='FY08'!D3+'FY09'!D3+'FY10'!D3+'FY11'!D3+'FY12'!D3+'FY13'!D3+'FY14'!D3+'FY15'!D3+'FY16'!D3+'FY17'!D3+'FY18'!D3 -> 151 | E42: ='FY08'!E3+'FY09'!E3+'FY10'!E3+'FY11'!E3+'FY12'!E3+'FY13'!E3+'FY14'!E3+'FY15'!E3+'FY16'!E3+'FY17'!E3+'FY18'!E3 -> 99 | F42: ='FY08'!F3+'FY09'!F3+'FY10'!F3+'FY11'!F3+'FY12'!F3+'FY13'!F3+'FY14'!F3+'FY15'!F3+'FY16'!F3+'FY17'!F3+'FY18'!F3 -> 136 | G42: ='FY08'!G3+'FY09'!G3+'FY10'!G3+'FY11'!G3+'FY12'!G3+'FY13'!G3+'FY14'!G3+'FY15'!G3+'FY16'!G3+'FY17'!G3+'FY18'!G3 -> 13 | H42: ='FY08'!H3+'FY09'!H3+'FY10'!H3+'FY11'!H3+'FY12'!H3+'FY13'!H3+'FY14'!H3+'FY15'!H3+'FY16'!H3+'FY17'!H3+'FY18'!H3 -> 111 | I42: ='FY08'!I3+'FY09'!I3+'FY10'!I3+'FY11'!I3+'FY12'!I3+'FY13'!I3+'FY14'!I3+'FY15'!I3+'FY16'!I3+'FY17'!I3+'FY18'!I3 -> 32 | J42: ='FY08'!J3+'FY09'!J3+'FY10'!J3+'FY11'!J3+'FY12'!J3+'FY13'!J3+'FY14'!J3+'FY15'!J3+'FY16'!J3+'FY17'!J3+'FY18'!J3 -> 80 | ... Z42: ='FY08'!Z3+'FY09'!Z3+'FY10'!Z3+'FY11'!Z3+'FY12'!Z3+'FY13'!Z3+'FY14'!Z3+'FY15'!Z3+'FY16'!Z3+'FY17'!Z3+'FY18'!Z3 -> 7
C43: =C41/(C41+C42) -> 0.29487731 | D43: =D41/(D41+D42) -> 0.19251337 | E43: =E41/(E41+E42) -> 0.26119403 | F43: =F41/(F41+F42) -> 0.30612245 | G43: =G41/(G41+G42) -> 0.38095238 | H43: =H41/(H41+H42) -> 0.25503356 | I43: =I41/(I41+I42) -> 0.43859649 | J43: =J41/(J41+J42) -> 0.27272727 | ... Z43: =Z41/(Z41+Z42) -> 0.36363636

Sheet CDR FY08-FY18
A1: RANK | B1: STATUS | C1: Officers | D1: Residency trained aerospace medicine | E1: Anesthesia | F1: Gen surgery | G1: Neurosurgery | H1: OB-GYN | I1: Ophthalmology | J1: Orthopedics | K1: ENT | L1: Urology | M1: Preventive medicine | N1: Occupational medicine | O1: Physical medicine and rehabilitation | P1: Pathology | Q1: Dermatology | R1: Emergency medicine | S1: Family medicine | T1: Internal medicine general | U1: Internal medicine sub specialty | V1: Neurology | W1: Pediatrics | X1: Psychiatry | Y1: Radiology | Z1: Radiation oncology
A2: CDR | B2: FY08 | C2: ='FY08'!C8 -> 0.56084656 | D2: ='FY08'!D8 -> 0.3 | E2: ='FY08'!E8 -> 0.5 | F2: ='FY08'!F8 -> 0.45454545 | G2: ='FY08'!G8 -> 0.66666667 | H2: ='FY08'!H8 -> 0.61111111 | I2: ='FY08'!I8 -> 0.75 | J2: ='FY08'!J8 -> 0.6 | ... N2: ='FY08'!N8 -> 0.5 | P2: ='FY08'!P8 -> 0.8 | Q2: ='FY08'!Q8 -> 0.5 | R2: ='FY08'!R8 -> 0.4 | S2: ='FY08'!S8 -> 0.5625 | T2: ='FY08'!T8 -> 0.75 | U2: ='FY08'!U8 -> 0.84615385 | V2: ='FY08'!V8 -> 1 | W2: ='FY08'!W8 -> 0.3 | ... Z2: ='FY08'!Z8 -> 0.66666667
A3: CDR | B3: FY09 | C3: ='FY09'!C8 -> 0.5974026 | D3: ='FY09'!D8 -> 0.57142857 | E3: ='FY09'!E8 -> 0.55555556 | F3: ='FY09'!F8 -> 0.72413793 | G3: ='FY09'!G8 -> 0.5 | H3: ='FY09'!H8 -> 0.4 | I3: ='FY09'!I8 -> 0.75 | J3: ='FY09'!J8 -> 0.75 | ... N3: ='FY09'!N8 -> 0 | P3: ='FY09'!P8 -> 0.66666667 | Q3: ='FY09'!Q8 -> 0.16666667 | R3: ='FY09'!R8 -> 0.5 | S3: ='FY09'!S8 -> 0.42222222 | T3: ='FY09'!T8 -> 0.76 | U3: ='FY09'!U8 -> 0.73913043 | W3: ='FY09'!W8 -> 0.66666667 | X3: ='FY09'!X8 -> 0.77777778 | Y3: ='FY09'!Y8 -> 0.73913043 | Z3: ='FY09'!Z8 -> 1
A4: CDR | B4: FY10 | C4: ='FY10'!C8 -> 0.5620155 | D4: ='FY10'!D8 -> 0.5 | E4: ='FY10'!E8 -> 0.61538462 | F4: ='FY10'!F8 -> 0.64705882 | G4: ='FY10'!G8 -> 0 | H4: ='FY10'!H8 -> 0.38461538 | I4: ='FY10'!I8 -> 0 | J4: ='FY10'!J8 -> 0.68421053 | ... N4: ='FY10'!N8 -> 0.7 | P4: ='FY10'!P8 -> 0.28571429 | Q4: ='FY10'!Q8 -> 0.88888889 | R4: ='FY10'!R8 -> 0.61111111 | S4: ='FY10'!S8 -> 0.46 | T4: ='FY10'!T8 -> 0.74358974 | U4: ='FY10'!U8 -> 0.71875 | W4: ='FY10'!W8 -> 0.66666667 | X4: ='FY10'!X8 -> 0.55555556 | Y4: ='FY10'!Y8 -> 0.61111111 | Z4: ='FY10'!Z8 -> 0
A5: CDR | B5: FY11 | C5: ='FY11'!C8 -> 0.51476793 | D5: ='FY11'!D8 -> 0.66666667 | E5: ='FY11'!E8 -> 0.47368421 | F5: ='FY11'!F8 -> 0.45454545 | G5: ='FY11'!G8 -> 0.66666667 | H5: ='FY11'!H8 -> 0.4375 | I5: ='FY11'!I8 -> 1 | J5: ='FY11'!J8 -> 0.53333333 | ... N5: ='FY11'!N8 -> 0.33333333 | P5: ='FY11'!P8 -> 0.44444444 | Q5: ='FY11'!Q8 -> 0.83333333 | R5: ='FY11'!R8 -> 0.55555556 | S5: ='FY11'!S8 -> 0.42105263 | T5: ='FY11'!T8 -> 0.54285714 | U5: ='FY11'!U8 -> 0.57142857 | W5: ='FY11'!W8 -> 0.63636364 | X5: ='FY11'!X8 -> 0.58333333 | Y5: ='FY11'!Y8 -> 0.47619048 | Z5: ='FY11'!Z8 -> 0
A6: CDR | B6: FY12 | C6: ='FY12'!C8 -> 0.47142857 | D6: ='FY12'!D8 -> 0.33333333 | E6: ='FY12'!E8 -> 0.42857143 | F6: ='FY12'!F8 -> 0.44444444 | G6: ='FY12'!G8 -> 0 | H6: ='FY12'!H8 -> 0.55555556 | I6: ='FY12'!I8 -> 1 | J6: ='FY12'!J8 -> 0.71428571 | ... Z6: ='FY12'!Z8 -> 1
A7: CDR | B7: FY13 | C7: ='FY13'!C8 -> 0.49302326 | D7: ='FY13'!D8 -> 0.66666667 | E7: ='FY13'!E8 -> 0.48148148 | F7: ='FY13'!F8 -> 0.35714286 | G7: ='FY13'!G8 -> 0.66666667 | H7: ='FY13'!H8 -> 0.25 | I7: ='FY13'!I8 -> 1 | J7: ='FY13'!J8 -> 0.63636364 | ... Y7: ='FY13'!Y8 -> 0.47368421
A8: CDR | B8: FY14 | C8: ='FY14'!C8 -> 0.57142857 | D8: ='FY14'!D8 -> 0 | E8: ='FY14'!E8 -> 0.48148148 | F8: ='FY14'!F8 -> 0.66666667 | G8: ='FY14'!G8 -> 1 | H8: ='FY14'!H8 -> 0.4 | I8: ='FY14'!I8 -> 1 | J8: ='FY14'!J8 -> 0.64285714 | ... Z8: ='FY14'!Z8 -> 1
A9: CDR | B9: FY15 | C9: ='FY15'!C8 -> 0.4806867 | D9: ='FY15'!D8 -> 0 | E9: ='FY15'!E8 -> 0.5 | F9: ='FY15'!F8 -> 0.43478261 | G9: ='FY15'!G8 -> 0 | H9: ='FY15'!H8 -> 0.7 | I9: ='FY15'!I8 -> 0.75 | J9: ='FY15'!J8 -> 0.5 | ... Y9: ='FY15'!Y8 -> 0.64705882
A10: CDR | B10: FY16 | C10: ='FY16'!C8 -> 0.40677966 | D10: ='FY16'!D8 -> 0.2 | E10: ='FY16'!E8 -> 0.56521739 | F10: ='FY16'!F8 -> 0.38888889 | G10: ='FY16'!G8 -> 1 | H10: ='FY16'!H8 -> 0.72727273 | I10: ='FY16'!I8 -> 0.66666667 | J10: ='FY16'!J8 -> 0.46153846 | ... Z10: ='FY16'!Z8 -> 0
A11: CDR | B11: FY17 | C11: ='FY17'!C8 -> 0.41275168 | D11: ='FY17'!D8 -> 0.5 | E11: ='FY17'!E8 -> 0.53846154 | F11: ='FY17'!F8 -> 0.35 | G11: ='FY17'!G8 -> 0.5 | H11: ='FY17'!H8 -> 0.2 | I11: ='FY17'!I8 -> 0.2 | J11: ='FY17'!J8 -> 0.60869565 | ... Z11: ='FY17'!Z8 -> 0.33333333
A12: CDR | B12: FY18 | C12: ='FY18'!C8 -> 0.39051095 | D12: ='FY18'!D8 -> 0.30769231 | E12: ='FY18'!E8 -> 0.33333333 | F12: ='FY18'!F8 -> 0.30769231 | G12: ='FY18'!G8 -> 0.5 | H12: ='FY18'!H8 -> 0.15384615 | I12: ='FY18'!I8 -> 0.66666667 | J12: ='FY18'!J8 -> 0.45454545 | ... Z12: ='FY18'!Z8 -> 0.33333333
A40: RANK | B40: STATUS | C40: Officers | D40: Residency trained aerospace medicine | E40: Anesthesia | F40: Gen surgery | G40: Neurosurgery | H40: OB-GYN | I40: Ophthalmology | J40: Orthopedics | K40: ENT | L40: Urology | M40: Preventive medicine | N40: Occupational medicine | O40: Physical medicine and rehabilitation | P40: Pathology | Q40: Dermatology | R40: Emergency medicine | S40: Family medicine | T40: Internal medicine general | U40: Internal medicine sub specialty | V40: Neurology | W40: Pediatrics | X40: Psychiatry | Y40: Radiology | Z40: Radiation oncology
A41: FY08 | B41: Select | C41: ='FY08'!C6+'FY09'!C6+'FY10'!C6+'FY11'!C6+'FY12'!C6+'FY13'!C6+'FY14'!C6+'FY15'!C6+'FY16'!C6+'FY17'!C6+'FY18'!C6 -> 1298 | D41: ='FY08'!D6+'FY09'!D6+'FY10'!D6+'FY11'!D6+'FY12'!D6+'FY13'!D6+'FY14'!D6+'FY15'!D6+'FY16'!D6+'FY17'!D6+'FY18'!D6 -> 28 | E41: ='FY08'!E6+'FY09'!E6+'FY10'!E6+'FY11'!E6+'FY12'!E6+'FY13'!E6+'FY14'!E6+'FY15'!E6+'FY16'!E6+'FY17'!E6+'FY18'!E6 -> 109 | F41: ='FY08'!F6+'FY09'!F6+'FY10'!F6+'FY11'!F6+'FY12'!F6+'FY13'!F6+'FY14'!F6+'FY15'!F6+'FY16'!F6+'FY17'!F6+'FY18'!F6 -> 93 | G41: ='FY08'!G6+'FY09'!G6+'FY10'!G6+'FY11'!G6+'FY12'!G6+'FY13'!G6+'FY14'!G6+'FY15'!G6+'FY16'!G6+'FY17'!G6+'FY18'!G6 -> 11 | H41: ='FY08'!H6+'FY09'!H6+'FY10'!H6+'FY11'!H6+'FY12'!H6+'FY13'!H6+'FY14'!H6+'FY15'!H6+'FY16'!H6+'FY17'!H6+'FY18'!H6 -> 59 | I41: ='FY08'!I6+'FY09'!I6+'FY10'!I6+'FY11'!I6+'FY12'!I6+'FY13'!I6+'FY14'!I6+'FY15'!I6+'FY16'!I6+'FY17'!I6+'FY18'!I6 -> 31 | J41: ='FY08'!J6+'FY09'!J6+'FY10'!J6+'FY11'!J6+'FY12'!J6+'FY13'!J6+'FY14'!J6+'FY15'!J6+'FY16'!J6+'FY17'!J6+'FY18'!J6 -> 97 | ... Z41: ='FY08'!Z6+'FY09'!Z6+'FY10'!Z6+'FY11'!Z6+'FY12'!Z6+'FY13'!Z6+'FY14'!Z6+'FY15'!Z6+'FY16'!Z6+'FY17'!Z6+'FY18'!Z6 -> 8
A42: FY08 | B42: Non-Select | C42: ='FY08'!C7+'FY09'!C7+'FY10'!C7+'FY11'!C7+'FY12'!C7+'FY13'!C7+'FY14'!C7+'FY15'!C7+'FY16'!C7+'FY17'!C7+'FY18'!C7 -> 1335 | D42: ='FY08'!D7+'FY09'!D7+'FY10'!D7+'FY11'!D7+'FY12'!D7+'FY13'!D7+'FY14'!D7+'FY15'!D7+'FY16'!D7+'FY17'!D7+'FY18'!D7 -> 52 | E42: ='FY08'!E7+'FY09'!E7+'FY10'!E7+'FY11'!E7+'FY12'!E7+'FY13'!E7+'FY14'!E7+'FY15'!E7+'FY16'!E7+'FY17'!E7+'FY18'!E7 -> 107 | F42: ='FY08'!F7+'FY09'!F7+'FY10'!F7+'FY11'!F7+'FY12'!F7+'FY13'!F7+'FY14'!F7+'FY15'!F7+'FY16'!F7+'FY17'!F7+'FY18'!F7 -> 100 | G42: ='FY08'!G7+'FY09'!G7+'FY10'!G7+'FY11'!G7+'FY12'!G7+'FY13'!G7+'FY14'!G7+'FY15'!G7+'FY16'!G7+'FY17'!G7+'FY18'!G7 -> 10 | H42: ='FY08'!H7+'FY09'!H7+'FY10'!H7+'FY11'!H7+'FY12'!H7+'FY13'!H7+'FY14'!H7+'FY15'!H7+'FY16'!H7+'FY17'!H7+'FY18'!H7 -> 74 | I42: ='FY08'!I7+'FY09'!I7+'FY10'!I7+'FY11'!I7+'FY12'!I7+'FY13'!I7+'FY14'!I7+'FY15'!I7+'FY16'!I7+'FY17'!I7+'FY18'!I7 -> 13 | J42: ='FY08'!J7+'FY09'!J7+'FY10'!J7+'FY11'!J7+'FY12'!J7+'FY13'!J7+'FY14'!J7+'FY15'!J7+'FY16'!J7+'FY17'!J7+'FY18'!J7 -> 64 | ... Z42: ='FY08'!Z7+'FY09'!Z7+'FY10'!Z7+'FY11'!Z7+'FY12'!Z7+'FY13'!Z7+'FY14'!Z7+'FY15'!Z7+'FY16'!Z7+'FY17'!Z7+'FY18'!Z7 -> 8
C43: =C41/(C41+C42) -> 0.49297379 | D43: =D41/(D41+D42) -> 0.35 | E43: =E41/(E41+E42) -> 0.50462963 | F43: =F41/(F41+F42) -> 0.48186528 | G43: =G41/(G41+G42) -> 0.52380952 | H43: =H41/(H41+H42) -> 0.44360902 | I43: =I41/(I41+I42) -> 0.70454545 | J43: =J41/(J41+J42) -> 0.60248447 | ... Z43: =Z41/(Z41+Z42) -> 0.5

Sheet FY08
A1: RANK | B1: STATUS | C1: Officers | D1: Residency trained aerospace medicine | E1: Anesthesia | F1: Gen surgery | G1: Neurosurgery | H1: OB-GYN | I1: Ophthalmology | J1: Orthopedics | K1: ENT | L1: Urology | M1: Preventive medicine | N1: Occupational medicine | O1: Physical medicine and rehabilitation | P1: Pathology | Q1: Dermatology | R1: Emergency medicine | S1: Family medicine | T1: Internal medicine general | U1: Internal medicine sub specialty | V1: Neurology | W1: Pediatrics | X1: Psychiatry | Y1: Radiology | Z1: Radiation oncology
A2: CDR | B2: SELECT | C2: 67 | D2: 2 | E2: 4 | F2: 8 | G2: 0 | H2: 1 | I2: 2 | J2: 5 | K2: 0 | L2: 0 | M2: 1 | N2: 2 | O2: 1 | P2: 2 | Q2: 1 | R2: 9 | S2: 6 | T2: 14 | U2: 12 | V2: 0 | W2: 6 | X2: 4 | Y2: 2 | Z2: 0
A3: CDR | B3: NON-SELECT | C3: 127 | D3: 11 | E3: 5 | F3: 11 | G3: 0 | H3: 8 | I3: 4 | J3: 3 | K3: 2 | L3: 1 | M3: 6 | N3: 4 | O3: 0 | P3: 9 | Q3: 1 | R3: 14 | S3: 23 | T3: 10 | U3: 5 | V3: 5 | W3: 11 | X3: 6 | Y3: 6 | Z3: 1
A4: Pct Select | C4: =C2/(C3+C2) -> 0.34536082 | D4: =D2/(D3+D2) -> 0.15384615 | E4: =E2/(E3+E2) -> 0.44444444 | F4: =F2/(F3+F2) -> 0.42105263 | G4: =G2/(G3+G2) -> #DIV/0! | H4: =H2/(H3+H2) -> 0.11111111 | I4: =I2/(I3+I2) -> 0.33333333 | J4: =J2/(J3+J2) -> 0.625 | ... Z4: =Z2/(Z3+Z2) -> 0
A6: LCDR | B6: SELECT | C6: 106 | D6: 3 | E6: 6 | F6: 5 | G6: 2 | H6: 11 | I6: 3 | J6: 9 | K6: 4 | L6: 4 | M6: 1 | N6: 3 | O6: 0 | P6: 4 | Q6: 2 | R6: 2 | S6: 27 | T6: 12 | U6: 11 | V6: 1 | W6: 3 | X6: 2 | Y6: 6 | Z6: 2
A7: LCDR | B7: NON-SELECT | C7: 83 | D7: 7 | E7: 6 | F7: 6 | G7: 1 | H7: 7 | I7: 1 | J7: 6 | K7: 1 | L7: 0 | M7: 1 | N7: 3 | O7: 0 | P7: 1 | Q7: 2 | R7: 3 | S7: 21 | T7: 4 | U7: 2 | V7: 0 | W7: 7 | X7: 1 | Y7: 8 | Z7: 1
A8: Pct Select | C8: =C6/(C7+C6) -> 0.56084656 | D8: =D6/(D7+D6) -> 0.3 | E8: =E6/(E7+E6) -> 0.5 | F8: =F6/(F7+F6) -> 0.45454545 | G8: =G6/(G7+G6) -> 0.66666667 | H8: =H6/(H7+H6) -> 0.61111111 | I8: =I6/(I7+I6) -> 0.75 | J8: =J6/(J7+J6) -> 0.6 | ... Z8: =Z6/(Z7+Z6) -> 0.66666667

Sheet FY09
A1: RANK | B1: STATUS | C1: Officers | D1: Residency trained aerospace medicine | E1: Anesthesia | F1: Gen surgery | G1: Neurosurgery | H1: OB-GYN | I1: Ophthalmology | J1: Orthopedics | K1: ENT | L1: Urology | M1: Preventive medicine | N1: Occupational medicine | O1: Physical medicine and rehabilitation | P1: Pathology | Q1: Dermatology | R1: Emergency medicine | S1: Family medicine | T1: Internal medicine general | U1: Internal medicine sub specialty | V1: Neurology | W1: Pediatrics | X1: Psychiatry | Y1: Radiology | Z1: Radiation oncology
A2: CDR | B2: SELECT | C2: 56 | D2: 3 | E2: 2 | F2: 4 | G2: 0 | H2: 3 | I2: 3 | J2: 2 | K2: 4 | L2: 0 | M2: 3 | N2: 1 | O2: 0 | P2: 1 | Q2: 0 | R2: 5 | S2: 11 | T2: 5 | U2: 4 | V2: 2 | W2: 4 | X2: 1 | Y2: 4 | Z2: 1
A3: CDR | B3: NON-SELECT | C3: 126 | D3: 11 | E3: 5 | F3: 16 | G3: 0 | H3: 9 | I3: 4 | J3: 5 | K3: 3 | L3: 1 | M3: 3 | N3: 4 | O3: 0 | P3: 9 | Q3: 2 | R3: 11 | S3: 26 | T3: 11 | U3: 6 | V3: 2 | W3: 10 | X3: 3 | Y3: 4 | Z3: 1
A4: Pct Select | C4: =C2/(C3+C2) -> 0.30769231 | D4: =D2/(D3+D2) -> 0.21428571 | E4: =E2/(E3+E2) -> 0.28571429 | F4: =F2/(F3+F2) -> 0.2 | G4: =G2/(G3+G2) -> #DIV/0! | H4: =H2/(H3+H2) -> 0.25 | I4: =I2/(I3+I2) -> 0.42857143 | J4: =J2/(J3+J2) -> 0.28571429 | ... Z4: =Z2/(Z3+Z2) -> 0.5
A6: LCDR | B6: SELECT | C6: 138 | D6: 4 | E6: 10 | F6: 21 | G6: 1 | H6: 6 | I6: 3 | J6: 9 | K6: 5 | L6: 3 | M6: 2 | N6: 0 | O6: 0 | P6: 2 | Q6: 1 | R6: 6 | S6: 19 | T6: 19 | U6: 17 | V6: 0 | W6: 8 | X6: 7 | Y6: 17 | Z6: 2
A7: LCDR | B7: NON-SELECT | C7: 93 | D7: 3 | E7: 8 | F7: 8 | G7: 1 | H7: 9 | I7: 1 | J7: 3 | K7: 2 | L7: 0 | M7: 2 | N7: 1 | O7: 0 | P7: 1 | Q7: 5 | R7: 6 | S7: 26 | T7: 6 | U7: 6 | V7: 0 | W7: 4 | X7: 2 | Y7: 6 | Z7: 0
A8: Pct Select | C8: =C6/(C7+C6) -> 0.5974026 | D8: =D6/(D7+D6) -> 0.57142857 | E8: =E6/(E7+E6) -> 0.55555556 | F8: =F6/(F7+F6) -> 0.72413793 | G8: =G6/(G7+G6) -> 0.5 | H8: =H6/(H7+H6) -> 0.4 | I8: =I6/(I7+I6) -> 0.75 | J8: =J6/(J7+J6) -> 0.75 | ... Z8: =Z6/(Z7+Z6) -> 1

Sheet FY10
A1: RANK | B1: STATUS | C1: Officers | D1: Residency trained aerospace medicine | E1: Anesthesia | F1: Gen surgery | G1: Neurosurgery | H1: OB-GYN | I1: Ophthalmology | J1: Orthopedics | K1: ENT | L1: Urology | M1: Preventive medicine | N1: Occupational medicine | O1: Physical medicine and rehabilitation | P1: Pathology | Q1: Dermatology | R1: Emergency medicine | S1: Family medicine | T1: Internal medicine general | U1: Internal medicine sub specialty | V1: Neurology | W1: Pediatrics | X1: Psychiatry | Y1: Radiology | Z1: Radiation oncology
A2: CDR | B2: SELECT | C2: 64 | D2: 2 | E2: 1 | F2: 3 | G2: 0 | H2: 4 | I2: 4 | J2: 3 | K2: 1 | L2: 0 | M2: 0 | N2: 3 | O2: 0 | P2: 2 | Q2: 1 | R2: 3 | S2: 21 | T2: 10 | U2: 9 | V2: 1 | W2: 5 | X2: 3 | Y2: 1 | Z2: 0
A3: CDR | B3: NON-SELECT | C3: 126 | D3: 13 | E3: 5 | F3: 16 | G3: 0 | H3: 7 | I3: 2 | J3: 4 | K3: 4 | L3: 1 | M3: 7 | N3: 5 | O3: 0 | P3: 9 | Q3: 1 | R3: 10 | S3: 30 | T3: 11 | U3: 6 | V3: 2 | W3: 9 | X3: 4 | Y3: 6 | Z3: 1
A4: Pct Select | C4: =C2/(C3+C2) -> 0.33684211 | D4: =D2/(D3+D2) -> 0.13333333 | E4: =E2/(E3+E2) -> 0.16666667 | F4: =F2/(F3+F2) -> 0.15789474 | G4: =G2/(G3+G2) -> #DIV/0! | H4: =H2/(H3+H2) -> 0.36363636 | I4: =I2/(I3+I2) -> 0.66666667 | J4: =J2/(J3+J2) -> 0.42857143 | ... Z4: =Z2/(Z3+Z2) -> 0
A6: LCDR | B6: SELECT | C6: 145 | D6: 2 | E6: 16 | F6: 11 | G6: 0 | H6: 5 | I6: 0 | J6: 13 | K6: 3 | L6: 2 | M6: 2 | N6: 7 | O6: 0 | P6: 2 | Q6: 8 | R6: 11 | S6: 23 | T6: 29 | U6: 23 | V6: 0 | W6: 8 | X6: 5 | Y6: 11 | Z6: 0
A7: LCDR | B7: NON-SELECT | C7: 113 | D7: 2 | E7: 10 | F7: 6 | G7: 2 | H7: 8 | I7: 3 | J7: 6 | K7: 3 | L7: 1 | M7: 2 | N7: 3 | O7: 0 | P7: 5 | Q7: 1 | R7: 7 | S7: 27 | T7: 10 | U7: 9 | V7: 0 | W7: 4 | X7: 4 | Y7: 7 | Z7: 1
A8: Pct Select | C8: =C6/(C7+C6) -> 0.5620155 | D8: =D6/(D7+D6) -> 0.5 | E8: =E6/(E7+E6) -> 0.61538462 | F8: =F6/(F7+F6) -> 0.64705882 | G8: =G6/(G7+G6) -> 0 | H8: =H6/(H7+H6) -> 0.38461538 | I8: =I6/(I7+I6) -> 0 | J8: =J6/(J7+J6) -> 0.68421053 | ... Z8: =Z6/(Z7+Z6) -> 0

Sheet FY11
A1: RANK | B1: STATUS | C1: Officers | D1: Residency trained aerospace medicine | E1: Anesthesia | F1: Gen surgery | G1: Neurosurgery | H1: OB-GYN | I1: Ophthalmology | J1: Orthopedics | K1: ENT | L1: Urology | M1: Preventive medicine | N1: Occupational medicine | O1: Physical medicine and rehabilitation | P1: Pathology | Q1: Dermatology | R1: Emergency medicine | S1: Family medicine | T1: Internal medicine general | U1: Internal medicine sub specialty | V1: Neurology | W1: Pediatrics | X1: Psychiatry | Y1: Radiology | Z1: Radiation oncology
A2: CDR | B2: SELECT | C2: 77 | D2: 4 | E2: 4 | F2: 7 | G2: 2 | H2: 4 | I2: 6 | J2: 4 | K2: 1 | L2: 3 | M2: 1 | N2: 1 | O2: 0 | P2: 2 | Q2: 1 | R2: 7 | S2: 12 | T2: 12 | U2: 9 | V2: 2 | W2: 4 | X2: 4 | Y2: 2 | Z2: 0
A3: CDR | B3: NON-SELECT | C3: 117 | D3: 16 | E3: 4 | F3: 10 | G3: 0 | H3: 9 | I3: 0 | J3: 5 | K3: 4 | L3: 1 | M3: 7 | N3: 6 | O3: 0 | P3: 6 | Q3: 1 | R3: 7 | S3: 36 | T3: 11 | U3: 5 | V3: 2 | W3: 9 | X3: 4 | Y3: 4 | Z3: 1
A4: Pct Select | C4: =C2/(C3+C2) -> 0.39690722 | D4: =D2/(D3+D2) -> 0.2 | E4: =E2/(E3+E2) -> 0.5 | F4: =F2/(F3+F2) -> 0.41176471 | G4: =G2/(G3+G2) -> 1 | H4: =H2/(H3+H2) -> 0.30769231 | I4: =I2/(I3+I2) -> 1 | J4: =J2/(J3+J2) -> 0.44444444 | ... Z4: =Z2/(Z3+Z2) -> 0
A6: LCDR | B6: SELECT | C6: 122 | D6: 2 | E6: 9 | F6: 5 | G6: 2 | H6: 7 | I6: 4 | J6: 8 | K6: 6 | L6: 1 | M6: 2 | N6: 1 | O6: 0 | P6: 4 | Q6: 5 | R6: 10 | S6: 16 | T6: 19 | U6: 16 | V6: 0 | W6: 7 | X6: 7 | Y6: 10 | Z6: 0
A7: LCDR | B7: NON-SELECT | C7: 115 | D7: 1 | E7: 10 | F7: 6 | G7: 1 | H7: 9 | I7: 0 | J7: 7 | K7: 1 | L7: 2 | M7: 2 | N7: 2 | O7: 0 | P7: 5 | Q7: 1 | R7: 8 | S7: 22 | T7: 16 | U7: 12 | V7: 0 | W7: 4 | X7: 5 | Y7: 11 | Z7: 1
A8: Pct Select | C8: =C6/(C7+C6) -> 0.51476793 | D8: =D6/(D7+D6) -> 0.66666667 | E8: =E6/(E7+E6) -> 0.47368421 | F8: =F6/(F7+F6) -> 0.45454545 | G8: =G6/(G7+G6) -> 0.66666667 | H8: =H6/(H7+H6) -> 0.4375 | I8: =I6/(I7+I6) -> 1 | J8: =J6/(J7+J6) -> 0.53333333 | ... Z8: =Z6/(Z7+Z6) -> 0

Sheet FY12
A1: RANK | B1: STATUS | C1: Officers | D1: Residency trained aerospace medicine | E1: Anesthesia | F1: Gen surgery | G1: Neurosurgery | H1: OB-GYN | I1: Ophthalmology | J1: Orthopedics | K1: ENT | L1: Urology | M1: Preventive medicine | N1: Occupational medicine | O1: Physical medicine and rehabilitation | P1: Pathology | Q1: Dermatology | R1: Emergency medicine | S1: Family medicine | T1: Internal medicine general | U1: Internal medicine sub specialty | V1: Neurology | W1: Pediatrics | X1: Psychiatry | Y1: Radiology | Z1: Radiation oncology
A2: CDR | B2: SELECT | C2: 90 | D2: 7 | E2: 4 | F2: 7 | G2: 0 | H2: 3 | I2: 2 | J2: 5 | K2: 4 | L2: 0 | M2: 4 | N2: 1 | O2: 0 | P2: 3 | Q2: 1 | R2: 6 | S2: 31 | T2: 15 | U2: 12 | V2: 1 | W2: 4 | X2: 2 | Y2: 2 | Z2: 1
A3: CDR | B3: NON-SELECT | C3: 128 | D3: 15 | E3: 6 | F3: 12 | G3: 3 | H3: 9 | I3: 2 | J3: 6 | K3: 3 | L3: 4 | M3: 7 | N3: 5 | O3: 0 | P3: 10 | Q3: 0 | R3: 6 | S3: 29 | T3: 11 | U3: 4 | V3: 2 | W3: 10 | X3: 6 | Y3: 6 | Z3: 0
A4: Pct Select | C4: =C2/(C3+C2) -> 0.41284404 | D4: =D2/(D3+D2) -> 0.31818182 | E4: =E2/(E3+E2) -> 0.4 | F4: =F2/(F3+F2) -> 0.36842105 | G4: =G2/(G3+G2) -> 0 | H4: =H2/(H3+H2) -> 0.25 | I4: =I2/(I3+I2) -> 0.5 | J4: =J2/(J3+J2) -> 0.45454545 | ... Z4: =Z2/(Z3+Z2) -> 1
A6: LCDR | B6: SELECT | C6: 99 | D6: 1 | E6: 6 | F6: 4 | G6: 0 | H6: 5 | I6: 3 | J6: 10 | K6: 6 | L6: 4 | M6: 2 | N6: 0 | O6: 0 | P6: 4 | Q6: 5 | R6: 6 | S6: 11 | T6: 10 | U6: 9 | V6: 1 | W6: 5 | X6: 4 | Y6: 14 | Z6: 1
A7: LCDR | B7: NON-SELECT | C7: 111 | D7: 2 | E7: 8 | F7: 5 | G7: 1 | H7: 4 | I7: 0 | J7: 4 | K7: 3 | L7: 1 | M7: 4 | N7: 4 | O7: 1 | P7: 3 | Q7: 0 | R7: 6 | S7: 25 | T7: 16 | U7: 11 | V7: 2 | W7: 5 | X7: 8 | Y7: 10 | Z7: 0
A8: Pct Select | C8: =C6/(C7+C6) -> 0.47142857 | D8: =D6/(D7+D6) -> 0.33333333 | E8: =E6/(E7+E6) -> 0.42857143 | F8: =F6/(F7+F6) -> 0.44444444 | G8: =G6/(G7+G6) -> 0 | H8: =H6/(H7+H6) -> 0.55555556 | I8: =I6/(I7+I6) -> 1 | J8: =J6/(J7+J6) -> 0.71428571 | ... Z8: =Z6/(Z7+Z6) -> 1

Sheet FY13
A1: RANK | B1: STATUS | C1: Officers | D1: Residency trained aerospace medicine | E1: Anesthesia | F1: Gen surgery | G1: Neurosurgery | H1: OB-GYN | I1: Ophthalmology | J1: Orthopedics | K1: ENT | L1: Urology | M1: Preventive medicine | N1: Occupational medicine | O1: Physical medicine and rehabilitation | P1: Pathology | Q1: Dermatology | R1: Emergency medicine | S1: Family medicine | T1: Internal medicine general | U1: Internal medicine sub specialty | V1: Neurology | W1: Pediatrics | X1: Psychiatry | Y1: Radiology | Z1: Radiation oncology
A2: CDR | B2: SELECT | C2: 51 | D2: 3 | E2: 2 | F2: 6 | G2: 1 | H2: 1 | I2: 2 | J2: 2 | K2: 0 | L2: 2 | M2: 2 | N2: 4 | O2: 0 | P2: 0 | Q2: 0 | R2: 4 | S2: 9 | T2: 4 | U2: 2 | V2: 0 | W2: 8 | X2: 3 | Y2: 2 | Z2: 1
A3: CDR | B3: NON-SELECT | C3: 141 | D3: 15 | E3: 5 | F3: 12 | G3: 3 | H3: 10 | I3: 2 | J3: 7 | K3: 4 | L3: 3 | M3: 5 | N3: 5 | O3: 0 | P3: 11 | Q3: 1 | R3: 5 | S3: 33 | T3: 12 | U3: 5 | V3: 2 | W3: 16 | X3: 4 | Y3: 9 | Z3: 0
A4: Pct Select | C4: =C2/(C3+C2) -> 0.265625 | D4: =D2/(D3+D2) -> 0.16666667 | E4: =E2/(E3+E2) -> 0.28571429 | F4: =F2/(F3+F2) -> 0.33333333 | G4: =G2/(G3+G2) -> 0.25 | H4: =H2/(H3+H2) -> 0.090909091 | I4: =I2/(I3+I2) -> 0.5 | J4: =J2/(J3+J2) -> 0.22222222 | ... Z4: =Z2/(Z3+Z2) -> 1
A6: LCDR | B6: SELECT | C6: 106 | D6: 2 | E6: 13 | F6: 5 | G6: 2 | H6: 2 | I6: 4 | J6: 7 | K6: 4 | L6: 3 | M6: 3 | N6: 0 | O6: 0 | P6: 4 | Q6: 1 | R6: 9 | S6: 15 | T6: 15 | U6: 14 | V6: 1 | W6: 8 | X6: 4 | Y6: 9 | Z6: 0
A7: LCDR | B7: NON-SELECT | C7: 109 | D7: 1 | E7: 14 | F7: 9 | G7: 1 | H7: 6 | I7: 0 | J7: 4 | K7: 2 | L7: 1 | M7: 3 | N7: 5 | O7: 1 | P7: 2 | Q7: 0 | R7: 9 | S7: 19 | T7: 10 | U7: 4 | V7: 2 | W7: 2 | X7: 5 | Y7: 10 | Z7: 0
A8: Pct Select | C8: =C6/(C7+C6) -> 0.49302326 | D8: =D6/(D7+D6) -> 0.66666667 | E8: =E6/(E7+E6) -> 0.48148148 | F8: =F6/(F7+F6) -> 0.35714286 | G8: =G6/(G7+G6) -> 0.66666667 | H8: =H6/(H7+H6) -> 0.25 | I8: =I6/(I7+I6) -> 1 | J8: =J6/(J7+J6) -> 0.63636364 | ... Z8: =Z6/(Z7+Z6) -> #DIV/0!

Sheet FY14
A1: RANK | B1: STATUS | C1: Officers | D1: Residency trained aerospace medicine | E1: Anesthesia | F1: Gen surgery | G1: Neurosurgery | H1: OB-GYN | I1: Ophthalmology | J1: Orthopedics | K1: ENT | L1: Urology | M1: Preventive medicine | N1: Occupational medicine | O1: Physical medicine and rehabilitation | P1: Pathology | Q1: Dermatology | R1: Emergency medicine | S1: Family medicine | T1: Internal medicine general | U1: Internal medicine sub specialty | V1: Neurology | W1: Pediatrics | X1: Psychiatry | Y1: Radiology | Z1: Radiation oncology
A2: CDR | B2: SELECT | C2: 50 | D2: 1 | E2: 3 | F2: 3 | G2: 3 | H2: 4 | I2: 1 | J2: 1 | K2: 4 | L2: 1 | M2: 2 | N2: 0 | O2: 0 | P2: 3 | Q2: 0 | R2: 1 | S2: 10 | T2: 6 | U2: 6 | V2: 0 | W2: 5 | X2: 1 | Y2: 2 | Z2: 1
A3: CDR | B3: NON-SELECT | C3: 152 | D3: 18 | E3: 6 | F3: 11 | G3: 2 | H3: 15 | I3: 3 | J3: 8 | K3: 2 | L3: 3 | M3: 6 | N3: 7 | O3: 0 | P3: 9 | Q3: 2 | R3: 5 | S3: 42 | T3: 14 | U3: 8 | V3: 3 | W3: 11 | X3: 3 | Y3: 9 | Z3: 0
A4: Pct Select | C4: =C2/(C3+C2) -> 0.24752475 | D4: =D2/(D3+D2) -> 0.052631579 | E4: =E2/(E3+E2) -> 0.33333333 | F4: =F2/(F3+F2) -> 0.21428571 | G4: =G2/(G3+G2) -> 0.6 | H4: =H2/(H3+H2) -> 0.21052632 | I4: =I2/(I3+I2) -> 0.25 | J4: =J2/(J3+J2) -> 0.11111111 | ... Z4: =Z2/(Z3+Z2) -> 1
A6: LCDR | B6: SELECT | C6: 144 | D6: 0 | E6: 13 | F6: 10 | G6: 1 | H6: 4 | I6: 4 | J6: 9 | K6: 4 | L6: 5 | M6: 4 | N6: 1 | O6: 0 | P6: 2 | Q6: 7 | R6: 12 | S6: 21 | T6: 17 | U6: 13 | V6: 5 | W6: 8 | X6: 8 | Y6: 8 | Z6: 1
A7: LCDR | B7: NON-SELECT | C7: 108 | D7: 3 | E7: 14 | F7: 5 | G7: 0 | H7: 6 | I7: 0 | J7: 5 | K7: 4 | L7: 2 | M7: 4 | N7: 3 | O7: 2 | P7: 2 | Q7: 2 | R7: 8 | S7: 19 | T7: 11 | U7: 6 | V7: 1 | W7: 2 | X7: 5 | Y7: 9 | Z7: 0
A8: Pct Select | C8: =C6/(C7+C6) -> 0.57142857 | D8: =D6/(D7+D6) -> 0 | E8: =E6/(E7+E6) -> 0.48148148 | F8: =F6/(F7+F6) -> 0.66666667 | G8: =G6/(G7+G6) -> 1 | H8: =H6/(H7+H6) -> 0.4 | I8: =I6/(I7+I6) -> 1 | J8: =J6/(J7+J6) -> 0.64285714 | ... Z8: =Z6/(Z7+Z6) -> 1

Sheet FY15
A1: RANK | B1: STATUS | C1: Officers | D1: Residency trained aerospace medicine | E1: Anesthesia | F1: Gen surgery | G1: Neurosurgery | H1: OB-GYN | I1: Ophthalmology | J1: Orthopedics | K1: ENT | L1: Urology | M1: Preventive medicine | N1: Occupational medicine | O1: Physical medicine and rehabilitation | P1: Pathology | Q1: Dermatology | R1: Emergency medicine | S1: Family medicine | T1: Internal medicine general | U1: Internal medicine sub specialty | V1: Neurology | W1: Pediatrics | X1: Psychiatry | Y1: Radiology | Z1: Radiation oncology
A2: CDR | B2: SELECT | C2: 67 | D2: 4 | E2: 3 | F2: 13 | G2: 0 | H2: 5 | I2: 3 | J2: 1 | K2: 1 | L2: 2 | M2: 1 | N2: 2 | O2: 0 | P2: 3 | Q2: 0 | R2: 1 | S2: 8 | T2: 11 | U2: 10 | V2: 0 | W2: 6 | X2: 2 | Y2: 5 | Z2: 0
A3: CDR | B3: NON-SELECT | C3: 162 | D3: 18 | E3: 10 | F3: 12 | G3: 2 | H3: 12 | I3: 3 | J3: 11 | K3: 3 | L3: 1 | M3: 6 | N3: 7 | O3: 0 | P3: 9 | Q3: 0 | R3: 7 | S3: 45 | T3: 12 | U3: 7 | V3: 3 | W3: 13 | X3: 2 | Y3: 14 | Z3: 1
A4: Pct Select | C4: =C2/(C3+C2) -> 0.29257642 | D4: =D2/(D3+D2) -> 0.18181818 | E4: =E2/(E3+E2) -> 0.23076923 | F4: =F2/(F3+F2) -> 0.52 | G4: =G2/(G3+G2) -> 0 | H4: =H2/(H3+H2) -> 0.29411765 | I4: =I2/(I3+I2) -> 0.5 | J4: =J2/(J3+J2) -> 0.083333333 | ... Z4: =Z2/(Z3+Z2) -> 0
A6: LCDR | B6: SELECT | C6: 112 | D6: 0 | E6: 11 | F6: 10 | G6: 0 | H6: 7 | I6: 3 | J6: 7 | K6: 5 | L6: 3 | M6: 5 | N6: 2 | O6: 0 | P6: 3 | Q6: 5 | R6: 5 | S6: 8 | T6: 19 | U6: 14 | V6: 2 | W6: 4 | X6: 3 | Y6: 11 | Z6: 0
A7: LCDR | B7: NON-SELECT | C7: 121 | D7: 8 | E7: 11 | F7: 13 | G7: 1 | H7: 3 | I7: 1 | J7: 7 | K7: 2 | L7: 2 | M7: 4 | N7: 5 | O7: 1 | P7: 4 | Q7: 3 | R7: 9 | S7: 22 | T7: 4 | U7: 3 | V7: 1 | W7: 6 | X7: 6 | Y7: 6 | Z7: 0
A8: Pct Select | C8: =C6/(C7+C6) -> 0.4806867 | D8: =D6/(D7+D6) -> 0 | E8: =E6/(E7+E6) -> 0.5 | F8: =F6/(F7+F6) -> 0.43478261 | G8: =G6/(G7+G6) -> 0 | H8: =H6/(H7+H6) -> 0.7 | I8: =I6/(I7+I6) -> 0.75 | J8: =J6/(J7+J6) -> 0.5 | ... Z8: =Z6/(Z7+Z6) -> #DIV/0!

Sheet FY16
A1: RANK | B1: STATUS | C1: Officers | D1: Residency trained aerospace medicine | E1: Anesthesia | F1: Gen surgery | G1: Neurosurgery | H1: OB-GYN | I1: Ophthalmology | J1: Orthopedics | K1: ENT | L1: Urology | M1: Preventive medicine | N1: Occupational medicine | O1: Physical medicine and rehabilitation | P1: Pathology | Q1: Dermatology | R1: Emergency medicine | S1: Family medicine | T1: Internal medicine general | U1: Internal medicine sub specialty | V1: Neurology | W1: Pediatrics | X1: Psychiatry | Y1: Radiology | Z1: Radiation oncology
A2: CDR | B2: SELECT | C2: 51 | D2: 1 | E2: 2 | F2: 3 | G2: 0 | H2: 5 | I2: 0 | J2: 2 | K2: 1 | L2: 0 | M2: 0 | N2: 4 | O2: 0 | P2: 1 | Q2: 2 | R2: 4 | S2: 12 | T2: 10 | U2: 7 | V2: 0 | W2: 5 | X2: 1 | Y2: 6 | Z2: 0
A3: CDR | B3: NON-SELECT | C3: 192 | D3: 17 | E3: 22 | F3: 13 | G3: 1 | H3: 12 | I3: 3 | J3: 10 | K3: 3 | L3: 1 | M3: 9 | N3: 9 | O3: 1 | P3: 10 | Q3: 2 | R3: 11 | S3: 44 | T3: 24 | U3: 17 | V3: 3 | W3: 12 | X3: 3 | Y3: 13 | Z3: 1
A4: Pct Select | C4: =C2/(C3+C2) -> 0.20987654 | D4: =D2/(D3+D2) -> 0.055555556 | E4: =E2/(E3+E2) -> 0.083333333 | F4: =F2/(F3+F2) -> 0.1875 | G4: =G2/(G3+G2) -> 0 | H4: =H2/(H3+H2) -> 0.29411765 | I4: =I2/(I3+I2) -> 0 | J4: =J2/(J3+J2) -> 0.16666667 | ... Z4: =Z2/(Z3+Z2) -> 0
A6: LCDR | B6: SELECT | C6: 96 | D6: 2 | E6: 13 | F6: 7 | G6: 1 | H6: 8 | I6: 2 | J6: 6 | K6: 1 | L6: 1 | M6: 5 | N6: 5 | O6: 1 | P6: 1 | Q6: 2 | R6: 6 | S6: 13 | T6: 7 | U6: 6 | V6: 1 | W6: 5 | X6: 4 | Y6: 8 | Z6: 0
A7: LCDR | B7: NON-SELECT | C7: 140 | D7: 8 | E7: 10 | F7: 11 | G7: 0 | H7: 3 | I7: 1 | J7: 7 | K7: 2 | L7: 2 | M7: 7 | N7: 10 | O7: 1 | P7: 7 | Q7: 2 | R7: 12 | S7: 20 | T7: 9 | U7: 7 | V7: 3 | W7: 8 | X7: 6 | Y7: 11 | Z7: 1
A8: Pct Select | C8: =C6/(C7+C6) -> 0.40677966 | D8: =D6/(D7+D6) -> 0.2 | E8: =E6/(E7+E6) -> 0.56521739 | F8: =F6/(F7+F6) -> 0.38888889 | G8: =G6/(G7+G6) -> 1 | H8: =H6/(H7+H6) -> 0.72727273 | I8: =I6/(I7+I6) -> 0.66666667 | J8: =J6/(J7+J6) -> 0.46153846 | ... Z8: =Z6/(Z7+Z6) -> 0

Sheet FY17
A1: RANK | B1: STATUS | C1: Officers | D1: Residency trained aerospace medicine | E1: Anesthesia | F1: Gen surgery | G1: Neurosurgery | H1: OB-GYN | I1: Ophthalmology | J1: Orthopedics | K1: ENT | L1: Urology | M1: Preventive medicine | N1: Occupational medicine | O1: Physical medicine and rehabilitation | P1: Pathology | Q1: Dermatology | R1: Emergency medicine | S1: Family medicine | T1: Internal medicine general | U1: Internal medicine sub specialty | V1: Neurology | W1: Pediatrics | X1: Psychiatry | Y1: Radiology | Z1: Radiation oncology
A2: CDR | B2: SELECT | C2: 62 | D2: 8 | E2: 8 | F2: 4 | G2: 2 | H2: 4 | I2: 2 | J2: 4 | K2: 0 | L2: 1 | M2: 4 | N2: 5 | O2: 0 | P2: 1 | Q2: 0 | R2: 6 | S2: 11 | T2: 10 | U2: 8 | V2: 0 | W2: 5 | X2: 1 | Y2: 3 | Z2: 0
A3: CDR | B3: NON-SELECT | C3: 190 | D3: 8 | E3: 18 | F3: 12 | G3: 1 | H3: 10 | I3: 3 | J3: 9 | K3: 6 | L3: 2 | M3: 6 | N3: 7 | O3: 1 | P3: 9 | Q3: 4 | R3: 10 | S3: 40 | T3: 25 | U3: 19 | V3: 3 | W3: 11 | X3: 7 | Y3: 18 | Z3: 1
A4: Pct Select | C4: =C2/(C3+C2) -> 0.24603175 | D4: =D2/(D3+D2) -> 0.5 | E4: =E2/(E3+E2) -> 0.30769231 | F4: =F2/(F3+F2) -> 0.25 | G4: =G2/(G3+G2) -> 0.66666667 | H4: =H2/(H3+H2) -> 0.28571429 | I4: =I2/(I3+I2) -> 0.4 | J4: =J2/(J3+J2) -> 0.30769231 | ... Z4: =Z2/(Z3+Z2) -> 0
A6: LCDR | B6: SELECT | C6: 123 | D6: 8 | E6: 7 | F6: 7 | G6: 1 | H6: 2 | I6: 1 | J6: 14 | K6: 1 | L6: 2 | M6: 7 | N6: 9 | O6: 0 | P6: 6 | Q6: 2 | R6: 9 | S6: 12 | T6: 19 | U6: 17 | V6: 1 | W6: 6 | X6: 7 | Y6: 10 | Z6: 1
A7: LCDR | B7: NON-SELECT | C7: 175 | D7: 8 | E7: 6 | F7: 13 | G7: 1 | H7: 8 | I7: 4 | J7: 9 | K7: 4 | L7: 3 | M7: 7 | N7: 6 | O7: 1 | P7: 6 | Q7: 3 | R7: 18 | S7: 27 | T7: 19 | U7: 13 | V7: 1 | W7: 8 | X7: 3 | Y7: 13 | Z7: 2
A8: Pct Select | C8: =C6/(C7+C6) -> 0.41275168 | D8: =D6/(D7+D6) -> 0.5 | E8: =E6/(E7+E6) -> 0.53846154 | F8: =F6/(F7+F6) -> 0.35 | G8: =G6/(G7+G6) -> 0.5 | H8: =H6/(H7+H6) -> 0.2 | I8: =I6/(I7+I6) -> 0.2 | J8: =J6/(J7+J6) -> 0.60869565 | ... Z8: =Z6/(Z7+Z6) -> 0.33333333

Sheet FY18
A1: RANK | B1: STATUS | C1: Officers | D1: Residency trained aerospace medicine | E1: Anesthesia | F1: Gen surgery | G1: Neurosurgery | H1: OB-GYN | I1: Ophthalmology | J1: Orthopedics | K1: ENT | L1: Urology | M1: Preventive medicine | N1: Occupational medicine | O1: Physical medicine and rehabilitation | P1: Pathology | Q1: Dermatology | R1: Emergency medicine | S1: Family medicine | T1: Internal medicine general | U1: Internal medicine sub specialty | V1: Neurology | W1: Pediatrics | X1: Psychiatry | Y1: Radiology | Z1: Radiation oncology
A2: CDR | B2: SELECT | C2: 50 | D2: 1 | E2: 2 | F2: 2 | G2: 0 | H2: 4 | I2: 0 | J2: 1 | K2: 5 | L2: 1 | M2: 4 | N2: 3 | O2: 1 | P2: 2 | Q2: 0 | R2: 5 | S2: 10 | T2: 6 | U2: 6 | V2: 0 | W2: 0 | X2: 2 | Y2: 10 | Z2: 0
A3: CDR | B3: NON-SELECT | C3: 177 | D3: 9 | E3: 13 | F3: 11 | G3: 1 | H3: 10 | I3: 6 | J3: 12 | K3: 5 | L3: 3 | M3: 4 | N3: 5 | O3: 0 | P3: 9 | Q3: 4 | R3: 9 | S3: 32 | T3: 19 | U3: 13 | V3: 2 | W3: 12 | X3: 8 | Y3: 19 | Z3: 0
A4: Pct Select | C4: =C2/(C3+C2) -> 0.22026432 | D4: =D2/(D3+D2) -> 0.1 | E4: =E2/(E3+E2) -> 0.13333333 | F4: =F2/(F3+F2) -> 0.15384615 | G4: =G2/(G3+G2) -> 0 | H4: =H2/(H3+H2) -> 0.28571429 | I4: =I2/(I3+I2) -> 0 | J4: =J2/(J3+J2) -> 0.076923077 | ... Z4: =Z2/(Z3+Z2) -> #DIV/0!
A6: LCDR | B6: SELECT | C6: 107 | D6: 4 | E6: 5 | F6: 8 | G6: 1 | H6: 2 | I6: 4 | J6: 5 | K6: 4 | L6: 3 | M6: 4 | N6: 3 | O6: 1 | P6: 4 | Q6: 5 | R6: 8 | S6: 18 | T6: 13 | U6: 7 | V6: 1 | W6: 4 | X6: 2 | Y6: 12 | Z6: 1
A7: LCDR | B7: NON-SELECT | C7: 167 | D7: 9 | E7: 10 | F7: 18 | G7: 1 | H7: 11 | I7: 2 | J7: 6 | K7: 5 | L7: 1 | M7: 7 | N7: 5 | O7: 0 | P7: 6 | Q7: 1 | R7: 15 | S7: 20 | T7: 21 | U7: 14 | V7: 0 | W7: 7 | X7: 5 | Y7: 12 | Z7: 2
A8: Pct Select | C8: =C6/(C7+C6) -> 0.39051095 | D8: =D6/(D7+D6) -> 0.30769231 | E8: =E6/(E7+E6) -> 0.33333333 | F8: =F6/(F7+F6) -> 0.30769231 | G8: =G6/(G7+G6) -> 0.5 | H8: =H6/(H7+H6) -> 0.15384615 | I8: =I6/(I7+I6) -> 0.66666667 | J8: =J6/(J7+J6) -> 0.45454545 | ... Z8: =Z6/(Z7+Z6) -> 0.33333333
